Package: megadepth Version: 1.16.0 Command: /Library/Frameworks/R.framework/Resources/bin/R CMD build --keep-empty-dirs --no-resave-data megadepth StartedAt: 2025-02-11 02:47:40 -0500 (Tue, 11 Feb 2025) EndedAt: 2025-02-11 02:48:02 -0500 (Tue, 11 Feb 2025) EllapsedTime: 21.8 seconds RetCode: 1 Status: ERROR PackageFile: None PackageFileSize: NA