Package: mdqc Version: 1.68.0 Command: rm -rf mdqc.buildbin-libdir && mkdir mdqc.buildbin-libdir && /Users/biocbuild/BBS/utils/build-universal.sh mdqc_1.68.0.tar.gz /Library/Frameworks/R.framework/Resources/bin/R mdqc.buildbin-libdir StartedAt: 2024-11-20 04:35:08 -0500 (Wed, 20 Nov 2024) EndedAt: 2024-11-20 04:35:15 -0500 (Wed, 20 Nov 2024) EllapsedTime: 6.9 seconds RetCode: 0 Status: OK PackageFile: mdqc_1.68.0.tgz PackageFileSize: 296 KiB