Package: mdqc Version: 1.68.0 Command: /Library/Frameworks/R.framework/Resources/bin/R CMD check --install=check:mdqc.install-out.txt --library=/Library/Frameworks/R.framework/Resources/library --no-vignettes --timings mdqc_1.68.0.tar.gz StartedAt: 2025-04-01 23:52:30 -0400 (Tue, 01 Apr 2025) EndedAt: 2025-04-01 23:52:57 -0400 (Tue, 01 Apr 2025) EllapsedTime: 27.1 seconds RetCode: 0 Status: OK CheckDir: mdqc.Rcheck Warnings: 0