Package: mdqc Version: 1.68.0 Command: rm -rf mdqc.buildbin-libdir && mkdir mdqc.buildbin-libdir && /Users/biocbuild/BBS/utils/build-universal.sh mdqc_1.68.0.tar.gz /Library/Frameworks/R.framework/Resources/bin/R mdqc.buildbin-libdir StartedAt: 2025-04-02 15:02:10 -0400 (Wed, 02 Apr 2025) EndedAt: 2025-04-02 15:02:14 -0400 (Wed, 02 Apr 2025) EllapsedTime: 3.5 seconds RetCode: 0 Status: OK PackageFile: mdqc_1.68.0.tgz PackageFileSize: 297.1 KiB