Package: mdp Version: 1.26.0 Command: /Library/Frameworks/R.framework/Resources/bin/R CMD check --install=check:mdp.install-out.txt --library=/Library/Frameworks/R.framework/Resources/library --no-vignettes --timings mdp_1.26.0.tar.gz StartedAt: 2025-01-28 06:06:23 -0500 (Tue, 28 Jan 2025) EndedAt: 2025-01-28 06:08:52 -0500 (Tue, 28 Jan 2025) EllapsedTime: 149.1 seconds RetCode: 0 Status: OK CheckDir: mdp.Rcheck Warnings: 0