Package: mbkmeans Version: 1.22.0 Command: /home/biocbuild/R/R/bin/R CMD INSTALL mbkmeans StartedAt: 2025-02-03 20:45:05 -0000 (Mon, 03 Feb 2025) EndedAt: 2025-02-03 20:46:11 -0000 (Mon, 03 Feb 2025) EllapsedTime: 65.1 seconds RetCode: 0 Status: OK