Package: mbkmeans Version: 1.22.0 Command: /home/biocbuild/R/R/bin/R CMD build --keep-empty-dirs --no-resave-data mbkmeans StartedAt: 2025-02-04 00:41:59 -0000 (Tue, 04 Feb 2025) EndedAt: 2025-02-04 00:44:07 -0000 (Tue, 04 Feb 2025) EllapsedTime: 128.0 seconds RetCode: 0 Status: OK PackageFile: mbkmeans_1.22.0.tar.gz PackageFileSize: 290 KiB