Package: mbkmeans Version: 1.22.0 Command: F:\biocbuild\bbs-3.20-bioc\R\bin\R.exe CMD check --no-multiarch --install=check:mbkmeans.install-out.txt --library=F:\biocbuild\bbs-3.20-bioc\R\library --no-vignettes --timings mbkmeans_1.22.0.tar.gz StartedAt: 2025-03-18 02:55:43 -0400 (Tue, 18 Mar 2025) EndedAt: 2025-03-18 03:02:30 -0400 (Tue, 18 Mar 2025) EllapsedTime: 406.7 seconds RetCode: 0 Status: OK CheckDir: mbkmeans.Rcheck Warnings: 0