Package: mbkmeans Version: 1.22.0 Command: rm -rf mbkmeans.buildbin-libdir && mkdir mbkmeans.buildbin-libdir && F:\biocbuild\bbs-3.20-bioc\R\bin\R.exe CMD INSTALL --build --library=mbkmeans.buildbin-libdir mbkmeans_1.22.0.tar.gz StartedAt: 2025-03-18 08:19:44 -0400 (Tue, 18 Mar 2025) EndedAt: 2025-03-18 08:21:22 -0400 (Tue, 18 Mar 2025) EllapsedTime: 98.0 seconds RetCode: 0 Status: OK PackageFile: mbkmeans_1.22.0.zip PackageFileSize: 706.5 KiB