Package: matter Version: 2.8.0 Command: /home/biocbuild/R/R/bin/R CMD check --install=check:matter.install-out.txt --library=/home/biocbuild/R/R/site-library --no-vignettes --timings matter_2.8.0.tar.gz StartedAt: 2025-01-28 08:34:05 -0000 (Tue, 28 Jan 2025) EndedAt: 2025-01-28 08:38:22 -0000 (Tue, 28 Jan 2025) EllapsedTime: 257.3 seconds RetCode: 0 Status: OK CheckDir: matter.Rcheck Warnings: 0