Package: matter Version: 2.8.0 Command: /Library/Frameworks/R.framework/Resources/bin/R CMD INSTALL matter StartedAt: 2025-03-31 15:42:20 -0400 (Mon, 31 Mar 2025) EndedAt: 2025-03-31 15:43:59 -0400 (Mon, 31 Mar 2025) EllapsedTime: 99.9 seconds RetCode: 0 Status: OK