Package: matter Version: 2.8.0 Command: /Library/Frameworks/R.framework/Resources/bin/R CMD check --install=check:matter.install-out.txt --library=/Library/Frameworks/R.framework/Resources/library --no-vignettes --timings matter_2.8.0.tar.gz StartedAt: 2025-04-01 05:09:18 -0400 (Tue, 01 Apr 2025) EndedAt: 2025-04-01 05:17:18 -0400 (Tue, 01 Apr 2025) EllapsedTime: 480.5 seconds RetCode: 0 Status: OK CheckDir: matter.Rcheck Warnings: 0