Package: matter Version: 2.8.0 Command: /Library/Frameworks/R.framework/Resources/bin/R CMD INSTALL matter StartedAt: 2025-03-31 16:20:02 -0400 (Mon, 31 Mar 2025) EndedAt: 2025-03-31 16:20:44 -0400 (Mon, 31 Mar 2025) EllapsedTime: 42.4 seconds RetCode: 0 Status: OK