Package: matchBox Version: 1.48.0 Command: F:\biocbuild\bbs-3.20-bioc\R\bin\R.exe CMD INSTALL matchBox StartedAt: 2025-03-31 15:20:32 -0400 (Mon, 31 Mar 2025) EndedAt: 2025-03-31 15:20:46 -0400 (Mon, 31 Mar 2025) EllapsedTime: 13.6 seconds RetCode: 0 Status: OK