Package: matchBox Version: 1.48.0 Command: rm -rf matchBox.buildbin-libdir && mkdir matchBox.buildbin-libdir && /Users/biocbuild/BBS/utils/build-universal.sh matchBox_1.48.0.tar.gz /Library/Frameworks/R.framework/Resources/bin/R matchBox.buildbin-libdir StartedAt: 2025-04-01 12:10:27 -0400 (Tue, 01 Apr 2025) EndedAt: 2025-04-01 12:10:32 -0400 (Tue, 01 Apr 2025) EllapsedTime: 5.4 seconds RetCode: 0 Status: OK PackageFile: matchBox_1.48.0.tgz PackageFileSize: 633.4 KiB