Package: matchBox Version: 1.48.0 Command: /Library/Frameworks/R.framework/Resources/bin/R CMD check --install=check:matchBox.install-out.txt --library=/Library/Frameworks/R.framework/Resources/library --no-vignettes --timings matchBox_1.48.0.tar.gz StartedAt: 2025-01-28 23:46:44 -0500 (Tue, 28 Jan 2025) EndedAt: 2025-01-28 23:47:08 -0500 (Tue, 28 Jan 2025) EllapsedTime: 24.7 seconds RetCode: 0 Status: OK CheckDir: matchBox.Rcheck Warnings: 0