Package: mastR Version: 1.6.0 Command: /home/biocbuild/R/R/bin/R CMD build --keep-empty-dirs --no-resave-data mastR StartedAt: 2025-02-04 00:40:22 -0000 (Tue, 04 Feb 2025) EndedAt: 2025-02-04 01:20:22 -0000 (Tue, 04 Feb 2025) EllapsedTime: 2400.0 seconds RetCode: None Status: TIMEOUT PackageFile: None PackageFileSize: NA