Package: mastR Version: 1.6.0 Command: F:\biocbuild\bbs-3.20-bioc\R\bin\R.exe CMD INSTALL mastR StartedAt: 2025-02-03 16:32:09 -0500 (Mon, 03 Feb 2025) EndedAt: 2025-02-03 16:33:21 -0500 (Mon, 03 Feb 2025) EllapsedTime: 72.5 seconds RetCode: 0 Status: OK