Package: mastR Version: 1.6.0 Command: /home/biocbuild/bbs-3.20-bioc/R/bin/R CMD check --install=check:mastR.install-out.txt --library=/home/biocbuild/bbs-3.20-bioc/R/site-library --timings mastR_1.6.0.tar.gz StartedAt: 2025-01-28 00:32:24 -0500 (Tue, 28 Jan 2025) EndedAt: 2025-01-28 00:43:04 -0500 (Tue, 28 Jan 2025) EllapsedTime: 639.7 seconds RetCode: 0 Status: OK CheckDir: mastR.Rcheck Warnings: 0