Package: mastR Version: 1.6.0 Command: /Library/Frameworks/R.framework/Resources/bin/R CMD INSTALL mastR StartedAt: 2024-11-08 15:49:45 -0500 (Fri, 08 Nov 2024) EndedAt: 2024-11-08 15:50:00 -0500 (Fri, 08 Nov 2024) EllapsedTime: 15.4 seconds RetCode: 0 Status: OK