Package: mastR Version: 1.6.0 Command: /Library/Frameworks/R.framework/Resources/bin/R CMD INSTALL mastR StartedAt: 2025-02-03 18:08:37 -0500 (Mon, 03 Feb 2025) EndedAt: 2025-02-03 18:09:25 -0500 (Mon, 03 Feb 2025) EllapsedTime: 48.6 seconds RetCode: 0 Status: OK