Package: mastR Version: 1.6.0 Command: /Library/Frameworks/R.framework/Resources/bin/R CMD check --install=check:mastR.install-out.txt --library=/Library/Frameworks/R.framework/Resources/library --no-vignettes --timings mastR_1.6.0.tar.gz StartedAt: 2025-01-28 23:46:19 -0500 (Tue, 28 Jan 2025) EndedAt: 2025-01-28 23:57:20 -0500 (Tue, 28 Jan 2025) EllapsedTime: 661.1 seconds RetCode: 0 Status: OK CheckDir: mastR.Rcheck Warnings: 0