Package: massiR Version: 1.42.0 Command: /home/biocbuild/R/R/bin/R CMD INSTALL massiR StartedAt: 2025-01-27 21:04:54 -0000 (Mon, 27 Jan 2025) EndedAt: 2025-01-27 21:05:24 -0000 (Mon, 27 Jan 2025) EllapsedTime: 30.5 seconds RetCode: 0 Status: OK