Package: massiR Version: 1.42.0 Command: /Library/Frameworks/R.framework/Resources/bin/R CMD build --keep-empty-dirs --no-resave-data massiR StartedAt: 2025-01-27 20:09:29 -0500 (Mon, 27 Jan 2025) EndedAt: 2025-01-27 20:09:57 -0500 (Mon, 27 Jan 2025) EllapsedTime: 27.8 seconds RetCode: 0 Status: OK PackageFile: massiR_1.42.0.tar.gz PackageFileSize: 1.115 MiB