Package: massiR Version: 1.42.0 Command: rm -rf massiR.buildbin-libdir && mkdir massiR.buildbin-libdir && /Users/biocbuild/BBS/utils/build-universal.sh massiR_1.42.0.tar.gz /Library/Frameworks/R.framework/Resources/bin/R massiR.buildbin-libdir StartedAt: 2025-01-28 13:35:42 -0500 (Tue, 28 Jan 2025) EndedAt: 2025-01-28 13:35:54 -0500 (Tue, 28 Jan 2025) EllapsedTime: 12.4 seconds RetCode: 0 Status: OK PackageFile: massiR_1.42.0.tgz PackageFileSize: 1.149 MiB