Package: massiR Version: 1.42.0 Command: /Library/Frameworks/R.framework/Resources/bin/R CMD check --install=check:massiR.install-out.txt --library=/Library/Frameworks/R.framework/Resources/library --no-vignettes --timings massiR_1.42.0.tar.gz StartedAt: 2025-02-05 00:38:37 -0500 (Wed, 05 Feb 2025) EndedAt: 2025-02-05 00:39:15 -0500 (Wed, 05 Feb 2025) EllapsedTime: 37.4 seconds RetCode: 0 Status: OK CheckDir: massiR.Rcheck Warnings: 0