Package: maskBAD Version: 1.50.0 Command: /home/biocbuild/bbs-3.20-bioc/R/bin/R CMD INSTALL maskBAD StartedAt: 2025-02-03 15:20:18 -0500 (Mon, 03 Feb 2025) EndedAt: 2025-02-03 15:20:29 -0500 (Mon, 03 Feb 2025) EllapsedTime: 10.7 seconds RetCode: 0 Status: OK