Package: maskBAD Version: 1.50.0 Command: rm -rf maskBAD.buildbin-libdir && mkdir maskBAD.buildbin-libdir && /Users/biocbuild/BBS/utils/build-universal.sh maskBAD_1.50.0.tar.gz /Library/Frameworks/R.framework/Resources/bin/R maskBAD.buildbin-libdir StartedAt: 2025-02-12 15:43:31 -0500 (Wed, 12 Feb 2025) EndedAt: 2025-02-12 15:43:47 -0500 (Wed, 12 Feb 2025) EllapsedTime: 15.8 seconds RetCode: 0 Status: OK PackageFile: maskBAD_1.50.0.tgz PackageFileSize: 1.583 MiB