Package: maser Version: 1.24.0 Command: /home/biocbuild/R/R/bin/R CMD check --install=check:maser.install-out.txt --library=/home/biocbuild/R/R/site-library --no-vignettes --timings maser_1.24.0.tar.gz StartedAt: 2024-11-20 09:27:36 -0000 (Wed, 20 Nov 2024) EndedAt: 2024-11-20 09:36:23 -0000 (Wed, 20 Nov 2024) EllapsedTime: 527.0 seconds RetCode: 0 Status: OK CheckDir: maser.Rcheck Warnings: 0