Package: martini Version: 1.26.0 Command: /home/biocbuild/R/R/bin/R CMD check --install=check:martini.install-out.txt --library=/home/biocbuild/R/R/site-library --no-vignettes --timings martini_1.26.0.tar.gz StartedAt: 2025-01-31 07:44:14 -0000 (Fri, 31 Jan 2025) EndedAt: 2025-01-31 07:48:02 -0000 (Fri, 31 Jan 2025) EllapsedTime: 228.3 seconds RetCode: 1 Status: ERROR CheckDir: martini.Rcheck Warnings: NA