Package: martini Version: 1.26.0 Command: /home/biocbuild/R/R/bin/R CMD build --keep-empty-dirs --no-resave-data martini StartedAt: 2025-01-31 00:38:20 -0000 (Fri, 31 Jan 2025) EndedAt: 2025-01-31 00:38:54 -0000 (Fri, 31 Jan 2025) EllapsedTime: 34.0 seconds RetCode: 0 Status: OK PackageFile: martini_1.26.0.tar.gz PackageFileSize: 2.916 MiB