Package: martini Version: 1.26.0 Command: chmod a+r martini -R && F:\biocbuild\bbs-3.20-bioc\R\bin\R.exe CMD build --keep-empty-dirs --no-resave-data martini StartedAt: 2025-03-31 19:55:49 -0400 (Mon, 31 Mar 2025) EndedAt: 2025-03-31 19:56:32 -0400 (Mon, 31 Mar 2025) EllapsedTime: 42.4 seconds RetCode: 0 Status: OK PackageFile: martini_1.26.0.tar.gz PackageFileSize: 2.89 MiB