Package: martini Version: 1.26.0 Command: /Library/Frameworks/R.framework/Resources/bin/R CMD build --keep-empty-dirs --no-resave-data martini StartedAt: 2025-04-01 02:18:06 -0400 (Tue, 01 Apr 2025) EndedAt: 2025-04-01 02:18:35 -0400 (Tue, 01 Apr 2025) EllapsedTime: 29.5 seconds RetCode: 0 Status: OK PackageFile: martini_1.26.0.tar.gz PackageFileSize: 3.009 MiB