Package: marray Version: 1.84.0 Command: rm -rf marray.buildbin-libdir && mkdir marray.buildbin-libdir && F:\biocbuild\bbs-3.20-bioc\R\bin\R.exe CMD INSTALL --build --library=marray.buildbin-libdir marray_1.84.0.tar.gz StartedAt: 2025-04-01 08:32:06 -0400 (Tue, 01 Apr 2025) EndedAt: 2025-04-01 08:33:14 -0400 (Tue, 01 Apr 2025) EllapsedTime: 68.4 seconds RetCode: 0 Status: OK PackageFile: marray_1.84.0.zip PackageFileSize: 5.271 MiB