Package: marr Version: 1.16.0 Command: /home/biocbuild/R/R/bin/R CMD build --keep-empty-dirs --no-resave-data marr StartedAt: 2025-02-11 00:28:29 -0000 (Tue, 11 Feb 2025) EndedAt: 2025-02-11 00:29:28 -0000 (Tue, 11 Feb 2025) EllapsedTime: 59.0 seconds RetCode: 0 Status: OK PackageFile: marr_1.16.0.tar.gz PackageFileSize: 652.7 KiB