Package: marr Version: 1.16.0 Command: /home/biocbuild/bbs-3.20-bioc/R/bin/R CMD INSTALL marr StartedAt: 2025-02-03 15:20:29 -0500 (Mon, 03 Feb 2025) EndedAt: 2025-02-03 15:20:59 -0500 (Mon, 03 Feb 2025) EllapsedTime: 29.7 seconds RetCode: 0 Status: OK