Package: marr Version: 1.16.0 Command: /Library/Frameworks/R.framework/Resources/bin/R CMD check --install=check:marr.install-out.txt --library=/Library/Frameworks/R.framework/Resources/library --no-vignettes --timings marr_1.16.0.tar.gz StartedAt: 2025-02-11 05:49:38 -0500 (Tue, 11 Feb 2025) EndedAt: 2025-02-11 05:58:58 -0500 (Tue, 11 Feb 2025) EllapsedTime: 560.1 seconds RetCode: 0 Status: OK CheckDir: marr.Rcheck Warnings: 0