Package: marr Version: 1.16.0 Command: /Library/Frameworks/R.framework/Resources/bin/R CMD check --install=check:marr.install-out.txt --library=/Library/Frameworks/R.framework/Resources/library --no-vignettes --timings marr_1.16.0.tar.gz StartedAt: 2025-04-01 23:38:15 -0400 (Tue, 01 Apr 2025) EndedAt: 2025-04-01 23:42:10 -0400 (Tue, 01 Apr 2025) EllapsedTime: 235.4 seconds RetCode: 0 Status: OK CheckDir: marr.Rcheck Warnings: 0