Package: mariner Version: 1.6.0 Command: /home/biocbuild/R/R/bin/R CMD build --keep-empty-dirs --no-resave-data mariner StartedAt: 2025-01-31 00:37:57 -0000 (Fri, 31 Jan 2025) EndedAt: 2025-01-31 00:39:59 -0000 (Fri, 31 Jan 2025) EllapsedTime: 122.0 seconds RetCode: 1 Status: ERROR PackageFile: None PackageFileSize: NA