Package: mariner Version: 1.6.0 Command: /Library/Frameworks/R.framework/Resources/bin/R CMD INSTALL mariner StartedAt: 2025-01-30 16:18:11 -0500 (Thu, 30 Jan 2025) EndedAt: 2025-01-30 16:18:59 -0500 (Thu, 30 Jan 2025) EllapsedTime: 48.2 seconds RetCode: 0 Status: OK