Package: mapscape Version: 1.30.0 Command: /Library/Frameworks/R.framework/Resources/bin/R CMD build --keep-empty-dirs --no-resave-data mapscape StartedAt: 2025-02-03 20:00:51 -0500 (Mon, 03 Feb 2025) EndedAt: 2025-02-03 20:01:13 -0500 (Mon, 03 Feb 2025) EllapsedTime: 22.3 seconds RetCode: 0 Status: OK PackageFile: mapscape_1.30.0.tar.gz PackageFileSize: 4.794 MiB