Package: mapscape Version: 1.30.0 Command: /Library/Frameworks/R.framework/Resources/bin/R CMD INSTALL mapscape StartedAt: 2025-02-10 16:37:06 -0500 (Mon, 10 Feb 2025) EndedAt: 2025-02-10 16:37:09 -0500 (Mon, 10 Feb 2025) EllapsedTime: 3.5 seconds RetCode: 0 Status: OK