Package: mapscape Version: 1.30.0 Command: /Library/Frameworks/R.framework/Resources/bin/R CMD build --keep-empty-dirs --no-resave-data mapscape StartedAt: 2025-02-11 02:34:50 -0500 (Tue, 11 Feb 2025) EndedAt: 2025-02-11 02:35:03 -0500 (Tue, 11 Feb 2025) EllapsedTime: 13.4 seconds RetCode: 0 Status: OK PackageFile: mapscape_1.30.0.tar.gz PackageFileSize: 4.794 MiB