Package: magrene Version: 1.8.0 Command: /Library/Frameworks/R.framework/Resources/bin/R CMD INSTALL magrene StartedAt: 2025-02-03 15:35:34 -0500 (Mon, 03 Feb 2025) EndedAt: 2025-02-03 15:35:41 -0500 (Mon, 03 Feb 2025) EllapsedTime: 7.6 seconds RetCode: 0 Status: OK