Package: magrene Version: 1.8.0 Command: /Library/Frameworks/R.framework/Resources/bin/R CMD check --install=check:magrene.install-out.txt --library=/Library/Frameworks/R.framework/Resources/library --no-vignettes --timings magrene_1.8.0.tar.gz StartedAt: 2025-04-01 23:30:11 -0400 (Tue, 01 Apr 2025) EndedAt: 2025-04-01 23:31:20 -0400 (Tue, 01 Apr 2025) EllapsedTime: 69.8 seconds RetCode: 0 Status: OK CheckDir: magrene.Rcheck Warnings: 0