Package: magpie Version: 1.6.0 Command: /home/biocbuild/bbs-3.20-bioc/R/bin/R CMD build --keep-empty-dirs --no-resave-data --md5 magpie StartedAt: 2025-01-27 18:47:20 -0500 (Mon, 27 Jan 2025) EndedAt: 2025-01-27 18:48:13 -0500 (Mon, 27 Jan 2025) EllapsedTime: 53.1 seconds RetCode: 0 Status: OK PackageFile: magpie_1.6.0.tar.gz PackageFileSize: 2.249 MiB