Package: magpie Version: 1.6.0 Command: /Library/Frameworks/R.framework/Resources/bin/R CMD INSTALL magpie StartedAt: 2025-01-27 16:41:20 -0500 (Mon, 27 Jan 2025) EndedAt: 2025-01-27 16:42:45 -0500 (Mon, 27 Jan 2025) EllapsedTime: 85.0 seconds RetCode: 0 Status: OK