Package: magpie Version: 1.6.0 Command: /Library/Frameworks/R.framework/Resources/bin/R CMD build --keep-empty-dirs --no-resave-data magpie StartedAt: 2025-01-27 20:06:33 -0500 (Mon, 27 Jan 2025) EndedAt: 2025-01-27 20:08:57 -0500 (Mon, 27 Jan 2025) EllapsedTime: 144.0 seconds RetCode: 0 Status: OK PackageFile: magpie_1.6.0.tar.gz PackageFileSize: 2.289 MiB