Package: magpie Version: 1.6.0 Command: /Library/Frameworks/R.framework/Resources/bin/R CMD check --install=check:magpie.install-out.txt --library=/Library/Frameworks/R.framework/Resources/library --no-vignettes --timings magpie_1.6.0.tar.gz StartedAt: 2024-11-19 23:35:41 -0500 (Tue, 19 Nov 2024) EndedAt: 2024-11-19 23:42:50 -0500 (Tue, 19 Nov 2024) EllapsedTime: 428.5 seconds RetCode: 0 Status: WARNINGS CheckDir: magpie.Rcheck Warnings: 1