Package: magpie Version: 1.6.0 Command: /home/biocbuild/R/R/bin/R CMD build --keep-empty-dirs --no-resave-data magpie StartedAt: 2024-11-20 01:47:38 -0000 (Wed, 20 Nov 2024) EndedAt: 2024-11-20 01:48:58 -0000 (Wed, 20 Nov 2024) EllapsedTime: 80.1 seconds RetCode: 0 Status: OK PackageFile: magpie_1.6.0.tar.gz PackageFileSize: 1.693 MiB